BEGIN:VCALENDAR
VERSION:2.0
PRODID:DPCALENDAR
CALSCALE:GREGORIAN
BEGIN:VTIMEZONE
TZID:America/Chicago
X-MICROSOFT-CDO-TZID:11
BEGIN:STANDARD
DTSTART:20251102T070000
TZOFFSETFROM:-0500
TZOFFSETTO:-0600
TZNAME:CST
END:STANDARD
BEGIN:DAYLIGHT
DTSTART:20260308T080000
TZOFFSETFROM:-0600
TZOFFSETTO:-0500
TZNAME:CDT
END:DAYLIGHT
BEGIN:STANDARD
DTSTART:20261101T070000
TZOFFSETFROM:-0500
TZOFFSETTO:-0600
TZNAME:CST
END:STANDARD
END:VTIMEZONE
X-WR-TIMEZONE:America/Chicago
BEGIN:VEVENT
DTSTART;TZID=America/Chicago:20260514T193000
DTEND;TZID=America/Chicago:20260514T203000
UID:4b87db85f21036bbabd3b77c70b96c5e
RECURRENCE-ID:20260515T003000Z
SUMMARY:BOD Meeting
DTSTAMP:20260420T034107Z
DESCRIPTION:Zoom meeting - check email for details.
X-ALT-DESC;FMTTYPE=text/html:Zoom meeting - check email for details.
LOCATION:
GEO:0.00000000;0.00000000
X-ACCESS:1
X-HITS:0
X-URL:https://www.google.com/calendar/event?eid=OG85NGQ2bTFlanV2ZHJvbGFqbGJrMzdwcTRfMjAyNjA1MTVUMDAzMDAwWiBndmd1Y2gzNDdrOWphaTBibTFnZDNkZ2g3NEBn
X-COLOR:9fe1e7
END:VEVENT
END:VCALENDAR