BEGIN:VCALENDAR
VERSION:2.0
PRODID:DPCALENDAR
CALSCALE:GREGORIAN
BEGIN:VTIMEZONE
TZID:America/Chicago
X-MICROSOFT-CDO-TZID:11
BEGIN:STANDARD
DTSTART:20251102T070000
TZOFFSETFROM:-0500
TZOFFSETTO:-0600
TZNAME:CST
END:STANDARD
BEGIN:DAYLIGHT
DTSTART:20260308T080000
TZOFFSETFROM:-0600
TZOFFSETTO:-0500
TZNAME:CDT
END:DAYLIGHT
BEGIN:STANDARD
DTSTART:20261101T070000
TZOFFSETFROM:-0500
TZOFFSETTO:-0600
TZNAME:CST
END:STANDARD
END:VTIMEZONE
X-WR-TIMEZONE:America/Chicago
BEGIN:VEVENT
DTSTART;TZID=America/Chicago:20260321T130000
DTEND;TZID=America/Chicago:20260321T180000
UID:61442d7677dea8905f980a7f7d64b896
SUMMARY:Spring 2 (FWD)
DTSTAMP:20260423T084610Z
DESCRIPTION:Forward race. \NRace Director A Miller
X-ALT-DESC;FMTTYPE=text/html:Forward race. <br />Race Director A Miller
LOCATION:3738 Memory Lane\, 76207 Denton\, Texas\, United States
GEO:33.30648080;-97.18946570
X-ACCESS:1
X-HITS:0
X-URL:https://www.google.com/calendar/event?eid=MHNrb3JtbTJqMjN0MGFpcWNqbmk3cWg5YXYgNjJiYmZpcHBsYmVlcDBoc2hhNnZjZ2dzM2tAZw
X-COLOR:dc2127
END:VEVENT
END:VCALENDAR